BEGIN:VCALENDAR
PRODID:-//PUBBLE//agenda//NL
VERSION:2.0
METHOD:PUBLISH
BEGIN:VEVENT
DTSTART:20260425T180000Z
DTEND:20260425T191500Z
DTSTAMP:20260420T071353Z
UID:eebe7473-9787-4409-bd3b-8cd2db9c9dbe
CREATED:20260420T071353Z
NAME:Muzikale vertelling KUNSTVADER door Podium Parinussa in De Wilde Weg ijsselbode.nl
X-WR-CALNAME:Muzikale vertelling KUNSTVADER door Podium Parinussa in De Wilde Weg
X-ALT-DESC;FMTTYPE=text/html:<a href='/agenda/2026/4/25/muzikale-vertelling-kunstvader-door-podium-parinussa-in-de-wilde-weg-26245'>/agenda/2026/4/25/muzikale-vertelling-kunstvader-door-podium-parinussa-in-de-wilde-weg-26245</a> || <p><strong>Na jaren spelen en zingen in uiteenlopende producties van anderen, wilde Maureen haar eigen verhaal in het licht zetten: haar (kinder)leven zonder vader. Deze man, die kunstenaar is, wie is hij en waar dan en waarom niet bij haar?</strong></p><p>KUNSTVADER is een reis langs vragen en verzwijgen, vinden en verliezen. Over de impact van de keuzes van ouders en de veerkracht van een kind.&nbsp;</p><p>met: Maureen Parinusssa, spel en tekst, begeleid door:
Gerard Kleijn - trompet
Guillermo Celano - gitaar, regie &nbsp;en tekstadvies -
Anne van Delft
toegang: vrije bijdrage via de pet of met een tikkie</p>
DESCRIPTION:<a href='/agenda/2026/4/25/muzikale-vertelling-kunstvader-door-podium-parinussa-in-de-wilde-weg-26245'>/agenda/2026/4/25/muzikale-vertelling-kunstvader-door-podium-parinussa-in-de-wilde-weg-26245</a> || <p><strong>Na jaren spelen en zingen in uiteenlopende producties van anderen, wilde Maureen haar eigen verhaal in het licht zetten: haar (kinder)leven zonder vader. Deze man, die kunstenaar is, wie is hij en waar dan en waarom niet bij haar?</strong></p><p>KUNSTVADER is een reis langs vragen en verzwijgen, vinden en verliezen. Over de impact van de keuzes van ouders en de veerkracht van een kind.&nbsp;</p><p>met: Maureen Parinusssa, spel en tekst, begeleid door:
Gerard Kleijn - trompet
Guillermo Celano - gitaar, regie &nbsp;en tekstadvies -
Anne van Delft
toegang: vrije bijdrage via de pet of met een tikkie</p>
LAST-MODIFIED:20260420T071353Z
LOCATION: THEATER DE WILDE WEG | Dorpstraat 33 Linschoten
SEQUENCE:0
STATUS:CONFIRMED
SUMMARY:Muzikale vertelling KUNSTVADER door Podium Parinussa in De Wilde Weg
TRANSP:OPAQUE
END:VEVENT
END:VCALENDAR
