BEGIN:VCALENDAR
PRODID:-//PUBBLE//agenda//NL
VERSION:2.0
METHOD:PUBLISH
BEGIN:VEVENT
DTSTART:20260401T080000Z
DTEND:20261031T163000Z
DTSTAMP:20260424T135344Z
UID:c98603d2-7fc3-4a16-8bab-5e8f02ac6a7b
CREATED:20260424T135344Z
NAME:Gezellige meewerkdag met lunch ijsselbode.nl
X-WR-CALNAME:Gezellige meewerkdag met lunch
X-ALT-DESC;FMTTYPE=text/html:<a href='/agenda/2026/4/1/gezellige-meewerkdag-met-lunch-26228'>/agenda/2026/4/1/gezellige-meewerkdag-met-lunch-26228</a> || <p><strong>Heb je zin om samen buiten aan de slag te gaan met een gezellige groep mensen? Elke laatste zaterdag van de maand nodigen we iedereen die het leuk vindt om een dagje mee te werken uit op onze regeneratieve gemeenschapstuin! Op de proeftuin telen we groenten en bloemen met en voor de buurt. We doen alles met de hand, dus er is altijd genoeg te doen ;)</strong>&nbsp;</p><p>We werken van 10 tot 15 met tussendoor een lekkere soeplunch die wij verzorgen. Groene vingers zijn niet nodig, maar het is wel verstandig om kleding aan te trekken die vies mag worden! Wat voor dingen doen we op een meewerkdag? Je kan meestal kiezen uit 3 taken: bijvoorbeeld planten en poten, soms bouwen we iets, of maken we teeltbedden klaar. &nbsp;</p><p>Kom vooral langs! Laat je het even weten als je mee wilt doen? Dan weten wij hoe groot de pan soep mag worden :)</p><p>Groene groeten en hopelijk tot binnenkort!</p><p>Emma, Jantien, Maria en het tuinteam</p>
DESCRIPTION:<a href='/agenda/2026/4/1/gezellige-meewerkdag-met-lunch-26228'>/agenda/2026/4/1/gezellige-meewerkdag-met-lunch-26228</a> || <p><strong>Heb je zin om samen buiten aan de slag te gaan met een gezellige groep mensen? Elke laatste zaterdag van de maand nodigen we iedereen die het leuk vindt om een dagje mee te werken uit op onze regeneratieve gemeenschapstuin! Op de proeftuin telen we groenten en bloemen met en voor de buurt. We doen alles met de hand, dus er is altijd genoeg te doen ;)</strong>&nbsp;</p><p>We werken van 10 tot 15 met tussendoor een lekkere soeplunch die wij verzorgen. Groene vingers zijn niet nodig, maar het is wel verstandig om kleding aan te trekken die vies mag worden! Wat voor dingen doen we op een meewerkdag? Je kan meestal kiezen uit 3 taken: bijvoorbeeld planten en poten, soms bouwen we iets, of maken we teeltbedden klaar. &nbsp;</p><p>Kom vooral langs! Laat je het even weten als je mee wilt doen? Dan weten wij hoe groot de pan soep mag worden :)</p><p>Groene groeten en hopelijk tot binnenkort!</p><p>Emma, Jantien, Maria en het tuinteam</p>
LAST-MODIFIED:20260424T135344Z
LOCATION: Proeftuin van Linschoten | Noord Linschoterdijk 26 Linschoten
SEQUENCE:0
STATUS:CONFIRMED
SUMMARY:Gezellige meewerkdag met lunch
TRANSP:OPAQUE
END:VEVENT
END:VCALENDAR
