BEGIN:VCALENDAR
PRODID:-//PUBBLE//agenda//NL
VERSION:2.0
METHOD:PUBLISH
BEGIN:VEVENT
DTSTART:20260209T092200Z
DTEND:20261217T102200Z
DTSTAMP:20260420T042544Z
UID:c8fb2856-32bd-4fca-8f5f-a5481115f9ae
CREATED:20260420T042544Z
NAME:Move Base – Chill Out ijsselbode.nl
X-WR-CALNAME:Move Base – Chill Out
X-ALT-DESC;FMTTYPE=text/html:<a href='/agenda/2026/2/9/move-base-chill-out-25838'>/agenda/2026/2/9/move-base-chill-out-25838</a> || <p>Even niks moeten. Gewoon chillen, hangen, lachen, muziek, creatief bezig zijn of gewoon jezelf zijn.
Na school ff uit je hoofd en lekker landen.</p><p>Voor jongeren van 12 t/m 16 jaar uit Waarder en omgeving.
Kom alleen of neem je vriend(in) mee &nbsp;iedereen is welkom. Gratis</p><p>Geen gedoe. Geen prestatiedruk.
Gewoon Move Base. Gewoon jij.</p>
DESCRIPTION:<a href='/agenda/2026/2/9/move-base-chill-out-25838'>/agenda/2026/2/9/move-base-chill-out-25838</a> || <p>Even niks moeten. Gewoon chillen, hangen, lachen, muziek, creatief bezig zijn of gewoon jezelf zijn.
Na school ff uit je hoofd en lekker landen.</p><p>Voor jongeren van 12 t/m 16 jaar uit Waarder en omgeving.
Kom alleen of neem je vriend(in) mee &nbsp;iedereen is welkom. Gratis</p><p>Geen gedoe. Geen prestatiedruk.
Gewoon Move Base. Gewoon jij.</p>
LAST-MODIFIED:20260420T042544Z
LOCATION: Huis van Alles Waarder | Mr. Pieter van Vollenhovenstraat 16 Waarder
SEQUENCE:0
STATUS:CONFIRMED
SUMMARY:Move Base – Chill Out
TRANSP:OPAQUE
END:VEVENT
END:VCALENDAR
