BEGIN:VCALENDAR
PRODID:-//PUBBLE//agenda//NL
VERSION:2.0
METHOD:PUBLISH
BEGIN:VEVENT
DTSTART:20260210T070000Z
DTEND:20261229T100000Z
DTSTAMP:20260420T014514Z
UID:480672dd-a4e3-4f69-9a57-1cdcbc653ad9
CREATED:20260420T014514Z
NAME:Koffie Ochtend in Huis van Alles Waarder ijsselbode.nl
X-WR-CALNAME:Koffie Ochtend in Huis van Alles Waarder
X-ALT-DESC;FMTTYPE=text/html:<a href='/agenda/2026/2/10/koffie-ochtend-in-huis-van-alles-waarder-25835'>/agenda/2026/2/10/koffie-ochtend-in-huis-van-alles-waarder-25835</a> || <p>Zin in een gezellige ochtend en een goed gesprek?
Je bent van harte welkom bij de koffieochtend van Huis van Alles Waarder.</p><p>Onder het genot van een kop koffie of thee is er alle ruimte om elkaar te ontmoeten, bij te praten en gewoon even gezellig een praatje te maken met je dorpsgenoten. Loop binnen wanneer het jou uitkomt, schuif aan en voel je welkom.</p><p>Alleen of samen, nieuw of bekend, bij ons is iedereen welkom.
De koffie staat klaar, de sfeer is warm.</p><p>Tot dinsdag!</p>
DESCRIPTION:<a href='/agenda/2026/2/10/koffie-ochtend-in-huis-van-alles-waarder-25835'>/agenda/2026/2/10/koffie-ochtend-in-huis-van-alles-waarder-25835</a> || <p>Zin in een gezellige ochtend en een goed gesprek?
Je bent van harte welkom bij de koffieochtend van Huis van Alles Waarder.</p><p>Onder het genot van een kop koffie of thee is er alle ruimte om elkaar te ontmoeten, bij te praten en gewoon even gezellig een praatje te maken met je dorpsgenoten. Loop binnen wanneer het jou uitkomt, schuif aan en voel je welkom.</p><p>Alleen of samen, nieuw of bekend, bij ons is iedereen welkom.
De koffie staat klaar, de sfeer is warm.</p><p>Tot dinsdag!</p>
LAST-MODIFIED:20260420T014514Z
LOCATION: Huis van Alles Waarder | Mr. Pieter van Vollenhovenstraat 16 Waarder
SEQUENCE:0
STATUS:CONFIRMED
SUMMARY:Koffie Ochtend in Huis van Alles Waarder
TRANSP:OPAQUE
END:VEVENT
END:VCALENDAR
